BEGIN:VCALENDAR
VERSION:2.0
BEGIN:VEVENT
DTSTART:20200623T184500
DURATION:PT00H00M00S
SUMMARY:[DEADLINE] Επαναληπτική εξέταση - Οικονομική της Ευρωπαϊκής Ολοκλήρωσης
DESCRIPTION:(deadline: 2020-06-23 18:45:00)
BEGIN:VALARM
TRIGGER:-PT24H
DURATION:PT10H
ACTION:DISPLAY
DESCRIPTION:DEADLINE REMINDER for Επαναληπτική εξέταση - Οικονομική της Ευρωπαϊκής Ολοκλήρωσης
END:VALARM
END:VEVENT
BEGIN:VEVENT
DTSTART:20200925T180000
DURATION:PT00H00M00S
SUMMARY:[DEADLINE] Εξετάσεις Σεπτέμβριος 2020 - Οικονομική της Ευρωπαϊκής Ολοκλήρωσης
DESCRIPTION:(deadline: 2020-09-25 18:00:00)
BEGIN:VALARM
TRIGGER:-PT24H
DURATION:PT10H
ACTION:DISPLAY
DESCRIPTION:DEADLINE REMINDER for Εξετάσεις Σεπτέμβριος 2020 - Οικονομική της Ευρωπαϊκής Ολοκλήρωσης
END:VALARM
END:VEVENT
BEGIN:VEVENT
DTSTART:20210125T180000
DURATION:PT00H00M00S
SUMMARY:[DEADLINE] Εξετάσεις Ιανουάριος 2021 - Ευρωπαϊκή Ολοκλήρωση
DESCRIPTION:(deadline: 2021-01-25 18:00:00)
BEGIN:VALARM
TRIGGER:-PT24H
DURATION:PT10H
ACTION:DISPLAY
DESCRIPTION:DEADLINE REMINDER for Εξετάσεις Ιανουάριος 2021 - Ευρωπαϊκή Ολοκλήρωση
END:VALARM
END:VEVENT
BEGIN:VEVENT
DTSTART:20210601T180000
DURATION:PT00H00M00S
SUMMARY:[DEADLINE] Εξετάσεις Ιούνιος 2021 - Ευρωπαϊκή Ολοκλήρωση
DESCRIPTION:(deadline: 2021-06-01 18:00:00)
BEGIN:VALARM
TRIGGER:-PT24H
DURATION:PT10H
ACTION:DISPLAY
DESCRIPTION:DEADLINE REMINDER for Εξετάσεις Ιούνιος 2021 - Ευρωπαϊκή Ολοκλήρωση
END:VALARM
END:VEVENT
BEGIN:VEVENT
DTSTART:20210908T174500
DURATION:PT00H00M00S
SUMMARY:[DEADLINE] Εξετάσεις Σεπτέμβριος 2021 - Ευρωπαϊκή Ολοκλήρωση
DESCRIPTION:(deadline: 2021-09-08 17:45:00)
BEGIN:VALARM
TRIGGER:-PT24H
DURATION:PT10H
ACTION:DISPLAY
DESCRIPTION:DEADLINE REMINDER for Εξετάσεις Σεπτέμβριος 2021 - Ευρωπαϊκή Ολοκλήρωση
END:VALARM
END:VEVENT
BEGIN:VEVENT
DTSTART:20260118T235500
DURATION:PT00H00M00S
SUMMARY:[DEADLINE] Εργασία Χειμερινού Εξαμήνου 2025
DESCRIPTION:Οι παρακάτω θεματικές αποτελούν θέματα εργασιών στο μάθημα «Οικονομικά της Ευρωπαϊκής Ολοκλήρωσης».
Κάθε εργασία είναι ατομική και βαθμολογείται με το 40% του τελικού βαθμού.
Η εργασία πρέπει να έχει έκταση περίπου 3.000 – 4.000 λέξεις (Γραμματοσειρά 12 pt, διάστιχο 1,5), να βασίζεται σε βιβλιογραφική τεκμηρίωση και να ακολουθεί το σύστημα αναφορών APA.
Κατάθεση εργασιών έως 19.12.2025 μέσω eclass.
(deadline: 2026-01-18 23:55:00)
BEGIN:VALARM
TRIGGER:-PT24H
DURATION:PT10H
ACTION:DISPLAY
DESCRIPTION:DEADLINE REMINDER for Εργασία Χειμερινού Εξαμήνου 2025
END:VALARM
END:VEVENT
END:VCALENDAR
