BEGIN:VCALENDAR
VERSION:2.0
BEGIN:VEVENT
DTSTART:20200622T180000
DURATION:PT00H00M00S
SUMMARY:[DEADLINE] Εξετάσεις Αγροτική Οικονομική Ανάπτυξη
DESCRIPTION:(deadline: 2020-06-22 18:00:00)
BEGIN:VALARM
TRIGGER:-PT24H
DURATION:PT10H
ACTION:DISPLAY
DESCRIPTION:DEADLINE REMINDER for Εξετάσεις Αγροτική Οικονομική Ανάπτυξη
END:VALARM
END:VEVENT
BEGIN:VEVENT
DTSTART:20200921T170000
DURATION:PT00H00M00S
SUMMARY:[DEADLINE] Σεπτέμβριος εξετάσεις Αγροτική Οικονομική Ανάπτυξη
DESCRIPTION:(deadline: 2020-09-21 17:00:00)
BEGIN:VALARM
TRIGGER:-PT24H
DURATION:PT10H
ACTION:DISPLAY
DESCRIPTION:DEADLINE REMINDER for Σεπτέμβριος εξετάσεις Αγροτική Οικονομική Ανάπτυξη
END:VALARM
END:VEVENT
BEGIN:VEVENT
DTSTART:20210125T170000
DURATION:PT00H00M00S
SUMMARY:[DEADLINE] Ιανουάριος εξετάσεις Αγροτική Οικονομική Ανάπτυξη
DESCRIPTION:(deadline: 2021-01-25 17:00:00)
BEGIN:VALARM
TRIGGER:-PT24H
DURATION:PT10H
ACTION:DISPLAY
DESCRIPTION:DEADLINE REMINDER for Ιανουάριος εξετάσεις Αγροτική Οικονομική Ανάπτυξη
END:VALARM
END:VEVENT
BEGIN:VEVENT
DTSTART:20210601T170000
DURATION:PT00H00M00S
SUMMARY:[DEADLINE] Ιούνιος εξετάσεις Αγροτική Οικονομική Ανάπτυξη
DESCRIPTION:(deadline: 2021-06-01 17:00:00)
BEGIN:VALARM
TRIGGER:-PT24H
DURATION:PT10H
ACTION:DISPLAY
DESCRIPTION:DEADLINE REMINDER for Ιούνιος εξετάσεις Αγροτική Οικονομική Ανάπτυξη
END:VALARM
END:VEVENT
BEGIN:VEVENT
DTSTART:20210908T154500
DURATION:PT00H00M00S
SUMMARY:[DEADLINE] Σεπτέμβριος εξετάσεις Αγροτική Οικονομική Ανάπτυξη
DESCRIPTION:(deadline: 2021-09-08 15:45:00)
BEGIN:VALARM
TRIGGER:-PT24H
DURATION:PT10H
ACTION:DISPLAY
DESCRIPTION:DEADLINE REMINDER for Σεπτέμβριος εξετάσεις Αγροτική Οικονομική Ανάπτυξη
END:VALARM
END:VEVENT
BEGIN:VEVENT
DTSTART:20260116T235500
DURATION:PT00H00M00S
SUMMARY:[DEADLINE] Εργασία Χειμερινού Εξαμήνου 2025-Αγροτικη Οικονομική Ανάπτυξη
DESCRIPTION:Οι οδηγίες αφορούν την εκπόνηση των εργασιών στο μάθημα «Αγροτική Οικονομική Ανάπτυξη-Θεωρία και Πολιτική».
Κάθε εργασία είναι ατομική. Προθεσμία υποβολής 16/01/2026 (μέσω eclass)
Οδηγίες συγγραφής:
Οδηγίες Εκπόνησης Εργασιών – Αγροτική Οικονομική Ανάπτυξη (Θεωρία και Πολιτική)
1. Γενικές Πληροφορίες
Οι παρακάτω οδηγίες αφορούν την εκπόνηση των εργασιών στο μάθημα «Αγροτική Οικονομική Ανάπτυξη-Θεωρία και Πολιτική».

Έκταση εργασίας: 2.500 – 3.000 λέξεις (χωρίς βιβλιογραφία και πίνακες)• Προθεσμία υποβολής: έως το τέλος του εξαμήνου• Μορφή αρχείου: Word (.docx)• Αποστολή μέσω e-class, σύμφωνα με τις οδηγίες του διδάσκοντα

2. Μορφοποίηση και Παραπομπές

Γραμματοσειρά: Times New Roman, μέγεθος 12• Διάστιχο: 1,5 γραμμής• Περιθώρια: 2,5 εκ. σε όλες τις πλευρές• Σελίδα τίτλου: να αναφέρεται το όνομα φοιτητή, τίτλος εργασίας, μάθημα και ημερομηνία• Παραπομπές και βιβλιογραφία: σύμφωνα με το πρότυπο APA (7η έκδοση)

3. Δομή Εργασίας
Οι εργασίες εστιάζουν στη βιβλιογραφική ανάλυση και στη θεωρητική τεκμηρίωση ενός ζητήματος.Ενδεικτική δομή:1. Εισαγωγή – παρουσίαση του θέματος και της σημασίας του2. Θεωρητικό πλαίσιο – βασικές θεωρίες και προσεγγίσεις3. Συγκριτική ανάλυση ή κριτική αποτίμηση4. Συμπεράσματα – πολιτικές προεκτάσεις ή προτάσεις
4. Κριτήρια Αξιολόγησης
Η αξιολόγηση βασίζεται στα εξής κριτήρια:• Σαφήνεια στη διατύπωση και στη δομή του κειμένου• Πληρότητα και εγκυρότητα βιβλιογραφίας• Ορθότητα στην τεκμηρίωση και χρήση πηγών• Ικανότητα ανάλυσης και σύνθεσης πληροφοριών• Ποιότητα παρουσίασης (ορθογραφία, μορφοποίηση, συνοχή)
6. Επισημάνσεις
Οι εργασίες πρέπει να είναι πρωτότυπες και να μην περιλαμβάνουν αυτούσια αποσπάσματα χωρίς αναφορά πηγής. Χρήση εργαλείων τεχνητής νοημοσύνης (AI) επιτρέπεται μόνο ως υποστηρικτική βοήθεια, όχι για την παραγωγή ολοκληρωμένων τμημάτων κειμένου.
(deadline: 2026-01-16 23:55:00)
BEGIN:VALARM
TRIGGER:-PT24H
DURATION:PT10H
ACTION:DISPLAY
DESCRIPTION:DEADLINE REMINDER for Εργασία Χειμερινού Εξαμήνου 2025-Αγροτικη Οικονομική Ανάπτυξη
END:VALARM
END:VEVENT
END:VCALENDAR
