BEGIN:VCALENDAR
VERSION:2.0
BEGIN:VEVENT
DTSTART:20111011T150000
DURATION:PT03H00M00S
SUMMARY:[COURSE] Έναρξη διαλέξεων
DESCRIPTION:Η έναρξη των διαλέξεων θα πραγματοποιηθεί την Τετάρτη 11/10/2011 και ώρα 15.00 στην αίθουσα Αγροτικής Οικονομίας
END:VEVENT
BEGIN:VEVENT
DTSTART:20260131T235500
DURATION:PT00H00M00S
SUMMARY:[DEADLINE] 1η Εργασία Διεθνές Εμπόριο και Πολιτική 2025/2026
DESCRIPTION:Θέματα 1ης Εργασίας για το Μάθημα Διεθνές Εμπόριο Αγροτικών Προϊόντων
 




Θέμα Εργασίας


Ενδεικτική Βιβλιογραφία / Πηγές


AM Φοιτητή




Σύγχρονα μεταναστευτικά ρεύματα στην Ευρώπη και οι οικονομικές τους επιπτώσεις


Eurostat, European Commission (Migration &amp; Home Affairs), OECD Migration Outlook, ΙΟΒΕ.


465




Η απασχόληση των αλλοδαπών στην Ελλάδα και η συμβολή τους στην οικονομία


ΕΛΣΤΑΤ, ΙΜΕ ΓΣΕΒΕΕ, Τράπεζα της Ελλάδος, Eurostat Labour ForceSurvey.


472




Παγκοσμιοποίηση: προϊόντα, τεχνολογία και επιπτώσεις στο διεθνές εμπόριο


WTO World Trade Report, IMF Outlook, Baldwin &amp; Wyplosz (The Economics of European Integration).


458




Παγκοσμιοποίηση και διεθνής κατανομή του πλούτου


World Bank, UNCTAD, Stiglitz (Globalization and Its Discontents), Eurostat.


476




Πολυεθνικές επιχειρήσεις και ο ρόλος τους στο παγκόσμιο εμπόριο


UNCTAD World Investment Report, OECD Multinational Guidelines, Harvard Business Review.


478




Η ευρωπαϊκή πολιτική για το εξωτερικό εμπόριο


European Commission Trade Policy Review, WTO–EU Trade Profiles, Baldwin &amp; Wyplosz.


481




Θετικές και αρνητικές επιπτώσεις από την ένταξη της Ελλάδας στο ευρώ


Τράπεζα της Ελλάδος, ΕΛΣΤΑΤ, European Central Bank Reports, ΙΟΒΕ.


474




Οικονομικές σχέσεις Ελλάδας – Βουλγαρίας


ΥΠΕΞ, Eurostat International Trade by Partner Country, Bulgarian National Bank, ΕΛΣΤΑΤ.


461




Οικονομικές σχέσεις Ελλάδας – Ρουμανίας


ΥΠΕΞ, Eurostat, Romanian National Institute of Statistics, ΕΛΣΤΑΤ.


462




Οικονομικές σχέσεις Ελλάδας – Σερβίας


ΥΠΕΞ, Statistical Office of the Republic of Serbia, ΕΛΣΤΑΤ, European Commission Trade Statistics.


455




Οικονομικές σχέσεις Ελλάδας – Βόρειας Μακεδονίας και Αλβανίας


ΥΠΕΞ, Eurostat, World Bank Western Balkans Reports, ΕΛΣΤΑΤ.


457




Οι νέες τάσεις στο διεθνές εμπόριο: πράσινη μετάβαση, ενέργεια και εφοδιαστικές αλυσίδες


OECD Trade and Environment, WTO (Trade and Climate), European Green Deal Reports, IEA.


464




 
Η μορφοποίηση θα πρέπει να διατηρείται ίδια όλη την έκταση της εργασίας.




Περιθώρια:


2.5 cm




Γραμματοσειρά:


Times New Roman




Μέγεθος γραμματοσειράς κειμένου:


12 pt




Επικεφαλίδες


 




   Τίτλοι κεφαλαίων


18 pt (με κεφαλαία)




   Κύριες παράγραφοι


12 pt bold




   Δευτερεύουσες παράγραφοι


11 pt πλάγια




Λεζάντες σχημάτων, πινάκων, κλπ.


10 pt ή 11 pt




Διάστιχο:


1.5 lines




Απόσταση παραγράφων:


6 pt




Στοίχιση:


Justified




 
Βιβλιογραφία: Αναγκαία η συγγραφή των βιβλιογραφικών πηγών του κειμένου της εργασίας. Οι βιβλιογραφικές πηγές πρέπει να συμπεριλαμβάνουν ΟΛΕΣ τις βιβλιογραφικές αναφορές που χρησιμοποιήθηκαν.
 
Οι εργασίες είναι ατομικές.
 
Η παράδοση της εργασίας θα πρέπει να γίνει μόνο ηλεκτρονικά μέσω eclass μέχρι την Παρασκευή 31/1/2026.
 
 
(deadline: 2026-01-31 23:55:00)
BEGIN:VALARM
TRIGGER:-PT24H
DURATION:PT10H
ACTION:DISPLAY
DESCRIPTION:DEADLINE REMINDER for 1η Εργασία Διεθνές Εμπόριο και Πολιτική 2025/2026
END:VALARM
END:VEVENT
BEGIN:VEVENT
DTSTART:20260215T235500
DURATION:PT00H00M00S
SUMMARY:[DEADLINE] 2η Εργασία Διεθνές Εμπόριο και Πολιτική 2025/2026
DESCRIPTION:Η θεματολογία των εργασιών του μαθήματος «Διεθνές Εμπόριο και Πολιτική» πρέπει υποχρεωτικά να είναι σχετική με τον κλάδο των τροφίμων και ποτών και να περιλαμβάνει τις παρακάτω ενότητες:    

Ορισμός και ταξινόμηση επιχείρησης-προϊόντος στον κλάδο (ΣΤΑΚΟΔ)
Αναλυτική παρουσίαση της επιχείρησης-προϊόντος

2.1 Δραστηριότητα,
2.2 ιστορικό,
2.3 παραγόμενα προϊόντα,
2.4 χρηματοοικονομική κατάσταση, αποδοτικότητα,
2.5 οικονομίες κλίμακας,
2.6 επενδύσεις σε έρευνα,
2.7 διαφήμιση …   

Παρουσίαση του κλάδου

3.1 επιχειρήσεις ανταγωνισμού,
3.2 μερίδια αγοράς,
3.3 βιομηχανική συγκέντρωση,
3.4 συγχωνεύσεις, εμπόδια εισόδου νέων επιχειρήσεων, …
 
 
 
 
 
Δομή Εργασίας
Η συγγραφή της εργασίας θα πρέπει να έχει την ακόλουθη δομή:

Εξώφυλλο
Πίνακας Περιεχομένων
Λίστα Σχημάτων, Λίστα Πινάκων κλπ.
Κύριο μέρος
Κεφάλαιο 1: Εισαγωγή
Κεφάλαιο 2, 3, 4, κλπ.
Κεφάλαιο Χ- Συμπεράσματα
Βιβλιογραφία

 
Μορφοποίηση
Η μορφοποίηση θα πρέπει να διατηρείται ίδια καθόλη την έκταση της εργασίας. Ενδεικτικά θα πρέπει να χρησιμοποιούνται:




Περιθώρια:


2.5 cm




Γραμματοσειρά:


Calibri




Μέγεθος γραμματοσειράς κειμένου:


12 pt




Επικεφαλίδες


 




   Τίτλοι κεφαλαίων


18 pt (με κεφαλαία)




   Κύριες παράγραφοι


12 pt bold




   Δευτερεύουσες παράγραφοι


11 pt πλάγια




Λεζάντες σχημάτων, πινάκων, κλπ.


10 pt ή 11 pt




Διάστιχο:


1.5 lines




Απόσταση παραγράφων:


6 pt




Στοίχιση:


Justified




 
 
(deadline: 2026-02-15 23:55:00)
BEGIN:VALARM
TRIGGER:-PT24H
DURATION:PT10H
ACTION:DISPLAY
DESCRIPTION:DEADLINE REMINDER for 2η Εργασία Διεθνές Εμπόριο και Πολιτική 2025/2026
END:VALARM
END:VEVENT
END:VCALENDAR
