BEGIN:VCALENDAR
VERSION:2.0
BEGIN:VEVENT
DTSTART:20260228T235500
DURATION:PT00H00M00S
SUMMARY:[DEADLINE] Εισαγωγή στην Αρχιτεκτονική έρευνα _Διάλεξη _Εξεταστική Φεβρουαρίου 2026
DESCRIPTION:(deadline: 2026-02-28 23:55:00)
BEGIN:VALARM
TRIGGER:-PT24H
DURATION:PT10H
ACTION:DISPLAY
DESCRIPTION:DEADLINE REMINDER for Εισαγωγή στην Αρχιτεκτονική έρευνα _Διάλεξη _Εξεταστική Φεβρουαρίου 2026
END:VALARM
END:VEVENT
END:VCALENDAR
