BEGIN:VCALENDAR
VERSION:2.0
BEGIN:VEVENT
DTSTART:20210125T210000
DURATION:PT00H00M00S
SUMMARY:[DEADLINE] εξετάσεις ιανουαρίου
DESCRIPTION:να λύσετε τα θέματα
(deadline: 2021-01-25 21:00:00)
BEGIN:VALARM
TRIGGER:-PT24H
DURATION:PT10H
ACTION:DISPLAY
DESCRIPTION:DEADLINE REMINDER for εξετάσεις ιανουαρίου
END:VALARM
END:VEVENT
END:VCALENDAR
