BEGIN:VCALENDAR
VERSION:2.0
BEGIN:VEVENT
DTSTART:20250703T132500
DURATION:PT00H00M00S
SUMMARY:[DEADLINE] τεστ
DESCRIPTION:(deadline: 2025-07-03 13:25:00)
BEGIN:VALARM
TRIGGER:-PT24H
DURATION:PT10H
ACTION:DISPLAY
DESCRIPTION:DEADLINE REMINDER for τεστ
END:VALARM
END:VEVENT
END:VCALENDAR
