BEGIN:VCALENDAR
VERSION:2.0
BEGIN:VEVENT
DTSTART:20190523T160000
DURATION:PT04H00M00S
SUMMARY:[COURSE] Παρουσίαση εργασιών
DESCRIPTION:Ολοκλήρωση και υποβολή εργασιών έως 23/5/2019
END:VEVENT
BEGIN:VEVENT
DTSTART:20230429T231500
DURATION:PT00H00M00S
SUMMARY:[DEADLINE] test
DESCRIPTION:(deadline: 2023-04-29 23:15:00)
BEGIN:VALARM
TRIGGER:-PT24H
DURATION:PT10H
ACTION:DISPLAY
DESCRIPTION:DEADLINE REMINDER for test
END:VALARM
END:VEVENT
END:VCALENDAR
