BEGIN:VCALENDAR
VERSION:2.0
BEGIN:VEVENT
DTSTART:20260420T095103
DURATION:PT00H00M00S
SUMMARY:[DEADLINE] #5+1Workflows #ΤελικήΕργασία 
DESCRIPTION:
BEGIN:VALARM
TRIGGER:-PT24H
DURATION:PT10H
ACTION:DISPLAY
DESCRIPTION:DEADLINE REMINDER for #5+1Workflows #ΤελικήΕργασία
END:VALARM
END:VEVENT
BEGIN:VEVENT
DTSTART:20260420T095103
DURATION:PT00H00M00S
SUMMARY:[DEADLINE] #5.1Rhino  #εργασία #παράδοση 
DESCRIPTION:
BEGIN:VALARM
TRIGGER:-PT24H
DURATION:PT10H
ACTION:DISPLAY
DESCRIPTION:DEADLINE REMINDER for #5.1Rhino #εργασία #παράδοση
END:VALARM
END:VEVENT
BEGIN:VEVENT
DTSTART:20260420T095103
DURATION:PT00H00M00S
SUMMARY:[DEADLINE] #5 Rhino #εργασία #παράδοση 
DESCRIPTION:
BEGIN:VALARM
TRIGGER:-PT24H
DURATION:PT10H
ACTION:DISPLAY
DESCRIPTION:DEADLINE REMINDER for #5 Rhino #εργασία #παράδοση
END:VALARM
END:VEVENT
BEGIN:VEVENT
DTSTART:20260420T095103
DURATION:PT00H00M00S
SUMMARY:[DEADLINE] #4 #ΑfterEffects #εργασία #παράδοση 
DESCRIPTION:
BEGIN:VALARM
TRIGGER:-PT24H
DURATION:PT10H
ACTION:DISPLAY
DESCRIPTION:DEADLINE REMINDER for #4 #ΑfterEffects #εργασία #παράδοση
END:VALARM
END:VEVENT
BEGIN:VEVENT
DTSTART:20260420T095103
DURATION:PT00H00M00S
SUMMARY:[DEADLINE] #3 #Premiere #εργασία  #παράδοση
DESCRIPTION:
BEGIN:VALARM
TRIGGER:-PT24H
DURATION:PT10H
ACTION:DISPLAY
DESCRIPTION:DEADLINE REMINDER for #3 #Premiere #εργασία #παράδοση
END:VALARM
END:VEVENT
BEGIN:VEVENT
DTSTART:20260420T095103
DURATION:PT00H00M00S
SUMMARY:[DEADLINE] #2 #illustrator #εργασία  #παράδοση
DESCRIPTION:
BEGIN:VALARM
TRIGGER:-PT24H
DURATION:PT10H
ACTION:DISPLAY
DESCRIPTION:DEADLINE REMINDER for #2 #illustrator #εργασία #παράδοση
END:VALARM
END:VEVENT
BEGIN:VEVENT
DTSTART:20260420T095103
DURATION:PT00H00M00S
SUMMARY:[DEADLINE] #1 #Photoshop #εργασία  #παράδοση
DESCRIPTION:
BEGIN:VALARM
TRIGGER:-PT24H
DURATION:PT10H
ACTION:DISPLAY
DESCRIPTION:DEADLINE REMINDER for #1 #Photoshop #εργασία #παράδοση
END:VALARM
END:VEVENT
BEGIN:VEVENT
DTSTART:20260420T095103
DURATION:PT00H00M00S
SUMMARY:[DEADLINE] πρόβα
DESCRIPTION:
BEGIN:VALARM
TRIGGER:-PT24H
DURATION:PT10H
ACTION:DISPLAY
DESCRIPTION:DEADLINE REMINDER for πρόβα
END:VALARM
END:VEVENT
BEGIN:VEVENT
DTSTART:20171003T151500
DURATION:PT04H00M00S
SUMMARY:[COURSE] Η ΠΡΩΤΗ ΕΙΚΟΝΑ
DESCRIPTION:Ποιοι? Πώς? Πότε?: Εισαγωγή στο μάθημα και τον τρόπο οργάνωσής του.
END:VEVENT
BEGIN:VEVENT
DTSTART:20171010T151500
DURATION:PT04H00M00S
SUMMARY:[COURSE] #1 Εργαστήρι: Εισαγωγή στην επεξεργασία της εικόνας -pixels: Adobe Photoshop
DESCRIPTION:περιγραφή
END:VEVENT
BEGIN:VEVENT
DTSTART:20171017T151500
DURATION:PT04H00M00S
SUMMARY:[COURSE] #2 Εργαστήρι: Εισαγωγή στην επεξεργασία της εικόνας - vectors: Adobe Illustrator
DESCRIPTION:περιγραφή
END:VEVENT
BEGIN:VEVENT
DTSTART:20171024T151500
DURATION:PT04H00M00S
SUMMARY:[COURSE] #3 Εργαστήρι: Εισαγωγή στην επεξεργασία της κινούμενης εικόνας: Adobe Premiere
DESCRIPTION:περιγραφή
END:VEVENT
BEGIN:VEVENT
DTSTART:20171024T235900
DURATION:PT00H00M00S
SUMMARY:[COURSE] 1 #Photoshop #παράδοση
DESCRIPTION:H παράδοση για την εικόνα από την συνάντηση #1 #Photoshop μπορεί να γίνει μέχρι την Δευτέρα 23 Οκτωβρίου.
Σε αυτή την πρώτη εργασία δεν υπάρχουν οδηγίες για τιτλο και μέγεθος εικόνας ή pdf.
Η εργασία αποστέλλετε με μήνυμα στην eclass*
Όλες οι εργασίες θα παρουσιαστούν στο τέλος του μαθήματος της Τρίτης.
*Αν περάσουν πάνω απο 24 ώρες και δεν λάβεις μήνυμα ότι η εργασία σου ελήφθει, ειδοποίησε!
END:VEVENT
BEGIN:VEVENT
DTSTART:20171027T235900
DURATION:PT00H00M00S
SUMMARY:[COURSE] #2 #illustrator #παράδοση
DESCRIPTION:Η παράδοση για την εικόνα από την συνάντηση #2 #illustrator μπορεί να γίνει μέχρι την Παρασκευή 27 Οκτωβρίου.  
Η εργασία αφορά 1 εικόνα και λίγε λέξεις.
1 εικόνα: με ποιητική τυπογραφία ή ποιητική κάτοψη
Λίγες λέξεις: Ένα ποίημα για τα γράμματα, τις γραμμές ή τις γραμμές των γραμμάτων όταν χάνουν την φόρμα τους, όταν από γράμματα γίνονται φιγούρες.
Η εικόνα σώζεται σε JPEG και παραδίδεται επικολλημένη στο υπόβαθρο-template για την εργασία #2.
Το μέγεθος της τελικής εικόνας συνιστάται να είναι 2000 x 1414 pixels
 με τίτλο “2_επίθετο_όνομα”.
Από εδώ μπορείς να κατεβάσεις το υπόβαθρο-template για την εργασία #2
        https://eclass.duth.gr/modules/document/index.php?course=TMD203
Η εργασία αποστέλετε με μήνυμα στην eclass*
Όλες οι εργασίες θα παρουσιαστούν στο τέλος του μαθήματος της Τρίτης.
 *Αν περάσουν πάνω απο 24 ώρες και δεν λάβεις μήνυμα ότι η εργασία σου ελήφθει, ειδοποίησε!
END:VEVENT
BEGIN:VEVENT
DTSTART:20171031T151500
DURATION:PT04H00M00S
SUMMARY:[COURSE] #4 Εργαστήρι: Animation in process. Εισαγωγή στην κινούμενη εικόνα και τα εφέ της: Adobe After effects
DESCRIPTION:περιγραφή
END:VEVENT
BEGIN:VEVENT
DTSTART:20171107T151500
DURATION:PT04H00M00S
SUMMARY:[COURSE] #5 Τρισδιάστατη μοντελοποίηση Rhinoceros 3D
DESCRIPTION:περιγραφή
END:VEVENT
BEGIN:VEVENT
DTSTART:20171114T151500
DURATION:PT04H00M00S
SUMMARY:[COURSE] #5 Τρισδιάστατη μοντελοποίηση Rhinoceros 3D
DESCRIPTION:περιγραφή
END:VEVENT
BEGIN:VEVENT
DTSTART:20171121T151500
DURATION:PT04H00M00S
SUMMARY:[COURSE] #6 Εργαστήρι: Μετατροπή της τρισδιάστατης εικόνας σε δισδιάστατη εικόνα – 3D rendering: Vray.
DESCRIPTION:περιγραφή
END:VEVENT
BEGIN:VEVENT
DTSTART:20180109T151500
DURATION:PT00H00M00S
SUMMARY:[COURSE] #6 Εργαστήρι: Μετατροπή της τρισδιάστατης εικόνας σε δισδιάστατη εικόνα – 3D rendering: Vray.
DESCRIPTION:
END:VEVENT
BEGIN:VEVENT
DTSTART:20180116T151500
DURATION:PT00H00M00S
SUMMARY:[COURSE] #7 Εργαστήρι: Εισαγωγή στη λογική των αλγόριθμων: Grasshopper
DESCRIPTION:
END:VEVENT
BEGIN:VEVENT
DTSTART:20180123T151500
DURATION:PT00H00M00S
SUMMARY:[COURSE] #8 Εργαστήρι: BIM (Building information modeling): REVIT & #9 Εργαστήρι: Τρισδιάστατες απεικονίσεις και ρεαλισμός: Artlantis
DESCRIPTION:
END:VEVENT
BEGIN:VEVENT
DTSTART:20180130T151500
DURATION:PT04H00M00S
SUMMARY:[COURSE] #9 +1 Εργαστήρι: Workflow: Ουτοπικές εικόνες: Συνεργασία προγραμμάτων
DESCRIPTION:περιγραφή
END:VEVENT
END:VCALENDAR
