BEGIN:VCALENDAR
VERSION:2.0
BEGIN:VEVENT
DTSTART:20170519T173000
DURATION:PT01H00M00S
SUMMARY:[COURSE] ΕΚΠΑΙΔΕΥΤΙΚΗ ΕΠΙΣΚΕΨΗ ΣΤΟ ΙΜΑRΕΤ ΤΗΣ ΚΟΜΟΤΗΝΗΣ
DESCRIPTION:ΔΗΜΟΚΡΙΤΕΙΟ ΠΑΝΕΠΙΣΤΗΜΙΟ ΘΡΑΚΗΣ
ΝΟΜΙΚΗ ΣΧΟΛΗ
 
ΕΚΠΑΙΔΕΥΤΙΚΗ   ΕΠΙΣΚΕΨΗ
ΣΤΟ   ΙΜΑRΕΤ   ΤΗΣ   ΚΟΜΟΤΗΝΗΣ
(οδός Βενιζέλου &amp; Ξενοφώντος 8, 19-05-2017, 17:30)
 
Προσκαλούνται όλοι οι φοιτητές της Νομικής Σχολής ΔΠΘ την Παρασκευή 19-05-2017, 17:30, στην εκπαιδευτική επίσκεψη στο Imaret. Η επίσκεψη είναι δωρεάν και περιλαμβάνει ξενάγηση στο χώρο του Imaret και ανάλυση των εκθεμάτων του μουσείου.
 
Το Imaret (τουρκ. πτωχοκομείο) είναι από τα παλαιότερα σωζόμενα οθωμανικά μνημεία της Ευρώπης και από τα αρχαιότερα δείγματα οθωμανικής αρχιτεκτονικής στη Θράκη (14ος αιώνας)· χτίστηκε παρά την Εγνατία οδό στην περιφέρεια της Μοσυνόπολης (Μαξιμιανούπολης) και δίπλα στο παλαιό μουσουλμανικό τέμενος (Eski Camii, 1608 μ.Χ.) από τον οθωμανό κατακτητή Γαζή Αχμέτ Εβρενό (Gazi Evrenos) κοντά στα ανατολικά τείχη του βυζαντινού κάστρου των Κουμουτζηνών· τον 19ο αιώνα κατά την διάρκεια της κατοχής της πόλης από τους Βούλγαρους το ανατολικό διαμέρισμα του Ιμαρέτ μετατράπηκε σε ναό, όπου πάνω από το τόξο της πόρτας σώζεται επιγραφή με κυριλλικούς χαρακτήρες.
 
 
Imaret Κομοτηνής: οδός Βενιζέλου &amp; Ξενοφώντος 8 (είσοδος όχι από την οδό Βενιζέλου αλλά από την οδό Ξενοφώντος 8), τηλ.  2531034177 (υπεύθυνη του μουσείου:  κα Ε. Γιαλαντζή), mail: ekklhsiastikomouseio@gmail.com
Συνοπτικές πληροφορίες περί της ιστορίας του μνημείου:http://odysseus.culture.gr/h/2/gh251.jsp?obj_id=1775 (Υπουργείο Πολιτισμού).
Η επίσκεψη στο Imaret Κομοτηνής εντάσσεται στις εκπαιδευτικές δραστηριότητες του μαθήματος «Εκκλησιαστικό Δίκαιο» και οργανώνεται από τον διδάσκοντα Αλέξανδρο Λιαρμακόπουλο σε συνεργασία με την Κοσμήτορα Νομικής ΔΠΘ, Καθηγήτρια Μαρία Γιούνη.
END:VEVENT
BEGIN:VEVENT
DTSTART:20170609T143000
DURATION:PT02H00M00S
SUMMARY:[COURSE] ΓΡΑΠΤΗ ΕΞΕΤΑΣΗ ΕΚΚΛΗΣΙΑΣΤΙΚΟ ΔΙΚΑΙΟ, ΕΚΚΛ.ΠΟΙΝ.ΔΙΚ. & ΘΡΗΣΚ.ΠΟΙΝ.ΔΙΚ.
DESCRIPTION:
END:VEVENT
END:VCALENDAR
