BEGIN:VCALENDAR
VERSION:2.0
BEGIN:VEVENT
DTSTART:20260423T005932
DURATION:PT00H00M00S
SUMMARY:[DEADLINE] ΘΕΜΑ 1 Ατμοστρόβιλος με Αναθέρμανση
DESCRIPTION:
BEGIN:VALARM
TRIGGER:-PT24H
DURATION:PT10H
ACTION:DISPLAY
DESCRIPTION:DEADLINE REMINDER for ΘΕΜΑ 1 Ατμοστρόβιλος με Αναθέρμανση
END:VALARM
END:VEVENT
BEGIN:VEVENT
DTSTART:20260423T005932
DURATION:PT00H00M00S
SUMMARY:[DEADLINE] ΘΕΜΑ 2 Ατμοστρόβιλος με Αναγέννηση και Αναθέρμανση
DESCRIPTION:
BEGIN:VALARM
TRIGGER:-PT24H
DURATION:PT10H
ACTION:DISPLAY
DESCRIPTION:DEADLINE REMINDER for ΘΕΜΑ 2 Ατμοστρόβιλος με Αναγέννηση και Αναθέρμανση
END:VALARM
END:VEVENT
BEGIN:VEVENT
DTSTART:20260423T005932
DURATION:PT00H00M00S
SUMMARY:[DEADLINE] ΘΕΜΑ 3. Συμπαραγωγή
DESCRIPTION:
BEGIN:VALARM
TRIGGER:-PT24H
DURATION:PT10H
ACTION:DISPLAY
DESCRIPTION:DEADLINE REMINDER for ΘΕΜΑ 3. Συμπαραγωγή
END:VALARM
END:VEVENT
BEGIN:VEVENT
DTSTART:20260423T005932
DURATION:PT00H00M00S
SUMMARY:[DEADLINE] ΘΕΜΑ 4. Κύκλοι Ψύξης Αερίων
DESCRIPTION:
BEGIN:VALARM
TRIGGER:-PT24H
DURATION:PT10H
ACTION:DISPLAY
DESCRIPTION:DEADLINE REMINDER for ΘΕΜΑ 4. Κύκλοι Ψύξης Αερίων
END:VALARM
END:VEVENT
BEGIN:VEVENT
DTSTART:20260423T005932
DURATION:PT00H00M00S
SUMMARY:[DEADLINE] ΘΕΜΑ 5 Κυψέλες καυσίμου SOFC
DESCRIPTION:
BEGIN:VALARM
TRIGGER:-PT24H
DURATION:PT10H
ACTION:DISPLAY
DESCRIPTION:DEADLINE REMINDER for ΘΕΜΑ 5 Κυψέλες καυσίμου SOFC
END:VALARM
END:VEVENT
BEGIN:VEVENT
DTSTART:20260423T005932
DURATION:PT00H00M00S
SUMMARY:[DEADLINE] ΘΕΜΑ 6 Κυψέλες καυσίμου ΡΕΜ
DESCRIPTION:
BEGIN:VALARM
TRIGGER:-PT24H
DURATION:PT10H
ACTION:DISPLAY
DESCRIPTION:DEADLINE REMINDER for ΘΕΜΑ 6 Κυψέλες καυσίμου ΡΕΜ
END:VALARM
END:VEVENT
END:VCALENDAR
