BEGIN:VCALENDAR
VERSION:2.0
BEGIN:VEVENT
DTSTART:20200706T235000
DURATION:PT00H00M00S
SUMMARY:[DEADLINE] ΕΞΕΤΑΣΤΙΚΗ (πτυχιακή) ΙΟΥΝΙΟΥ 2020 ΜΑΘΗΜΑΤΟΣ ΑΡΧΙΤΕΚΤΟΝΙΚΗ ΣΥΝΘΕΣΗ 9Β (Αρχιτεκτονική και Τοπίο), 9ο εξάμηνο 
DESCRIPTION:ΠΑΡΑΔΟΤΕΑ ΜΑΘΗΜΑΤΟΣ ΑΡΧΙΤΕΚΤΟΝΙΚΗ ΣΥΝΘΕΣΗ ΙΧβ
 
Όλες οι ομάδες των φοιτητών για την εξεταστική του Ιουνίου του μαθήματος οφείλουν να παραδώσουν τα παρακάτω:
Α. 1 αρχείο σε μορφή jpeg (max. 30 MB) με τίτλο: ΚΑΤΟΨΗ 1:500, όπου θα φαίνεται το σύνολο της περιοχής μελέτης
Β. 1 αρχείο σε μορφή jpeg (max. 30 MB) με τίτλο: ΚΑΤΟΨΗ 1:200
Γ. 1 αρχείο jpeg (max. 30 MB) με τίτλο: ΤΟΜΕΣ 1:200, 2 ενδεικτικές τομές σε οποιοδήποτε σημείο επιθυμεί η ομάδα.
Δ. Δύο (2) πινακίδες διαστάσεων Α1 (594Χ841 mm) σε οριζόντιο προσανατολισμό, όπου ελεύθερα η κάθε ομάδα μπορεί να βάλει προοπτικές απεικονίσεις (3d renders), σκίτσα, εξέλιξη ιδέας, κατόψεις ή τμήματα αυτών, προκειμένου να γίνουν κατανοητά καλύτερα τα παραπάνω. Διευκρινίζεται ότι οι κατόψεις στις πινακίδες Α1 θα είναι σε ελεύθερη κλίμακα επιλογής των ομάδων, καθώς παραδίδονται σε ξεχωριστό αρχείο υπό κλίμακα.
Ε. Κείμενο περίπου 200 λέξεων με σύντομη περιγραφή της ιδέας και των βασικών αρχών της σύνθεσης.     
Τα ονόματα της ομάδας θα πρέπει να αναγράφονται στην αρχή του κειμένου περιγραφής, συμπεριλαμβανομένων των ΑΜ του κάθε φοιτητή. Τα ονόματα των φοιτητών δεν προσμετρώνονται στις 200 λέξεις του κειμένου
ΣΤ. (ΠΡΟΑΙΡΕΤΙΚΟ) 1 αρχείο σε μορφή jpeg (max. 30 MB) με τίτλο: ΜΑΚΕΤΑ 1:200
Για όσες ομάδες φοιτητών έχουν ήδη κάνει τελική μακέτα, μπορούν να συμπεριλάβουν ένα αρχείο με φωτογραφίες από αυτή, εφόσον υπάρχει η δυνατότητα να γίνει φωτογράφιση.
Ο τρόπος αποστολής των παραπάνω θα γίνει σε φάκελο σε μορφή zip, ο οποίος θα αναρτηθεί στο πεδίο ΕΡΓΑΣΙΕΣ στην πλατφόρμα eclass. ΕΠΙΣΗΜΑΙΝΕΤΑΙ ότι είναι υποχρεωτικό ο κάθε φοιτητής θα ανεβάσει το φάκελο zip της ομάδας του μέσω των προσωπικών του κωδικών. Δηλαδή για παράδειγμα σε μια ομάδα τριμελή και τα τρία μέλη της ομάδας θα ανεβάσουν τον ίδιο φάκελο zip.
Οι ομάδες μπορούν να ανεβάσουν τους ψηφιακούς τους φακέλους από την ΠΕΜΠΤΗ 25/06/2020 11:00 πμ έως και την ΠΕΜΠΤΗ 02/07/2020 και ώρα 11:00 πμ.
Δημόσια υποστήριξη του θέματος (προφορική παρουσίαση) δε θα πραγματοποιηθεί.
 
Η διδακτική ομάδα
(deadline: 2020-07-06 23:50:00)
BEGIN:VALARM
TRIGGER:-PT24H
DURATION:PT10H
ACTION:DISPLAY
DESCRIPTION:DEADLINE REMINDER for ΕΞΕΤΑΣΤΙΚΗ (πτυχιακή) ΙΟΥΝΙΟΥ 2020 ΜΑΘΗΜΑΤΟΣ ΑΡΧΙΤΕΚΤΟΝΙΚΗ ΣΥΝΘΕΣΗ 9Β (Αρχιτεκτονική και Τοπίο), 9ο εξάμηνο
END:VALARM
END:VEVENT
BEGIN:VEVENT
DTSTART:20200921T230000
DURATION:PT00H00M00S
SUMMARY:[DEADLINE] ΕΞΕΤΑΣΤΙΚΗ ΣΕΠΤΕΜΒΡΙΟΥ 2020 ΜΑΘΗΜΑΤΟΣ ΑΡΧΙΤΕΚΤΟΝΙΚΗ ΣΥΝΘΕΣΗ ΙΧΒ (Αρχιτεκτονική και Τοπίο)
DESCRIPTION:ΣΗΜΑΝΤΙΚΗ ΑΝΑΚΟΙΝΩΣΗ!!! ΠΑΡΑΔΟΣΗ ΨΗΦΙΑΚΩΝ ΑΡΧΕΙΩΝ - ΕΞΕΤΑΣΤΙΚΗ ΣΕΠΤΕΜΒΡΙΟΥ 2020 ΓΙΑ ΤΟ ΜΑΘΗΜΑ ΑΡΧΙΤΕΚΤΟΝΙΚΗ ΣΥΝΘΕΣΗ ΙΧβ

ΠΑΡΑΔΟΤΕΑ ΜΑΘΗΜΑΤΟΣ ΑΡΧΙΤΕΚΤΟΝΙΚΗ ΣΥΝΘΕΣΗ ΙΧβ
Όλες οι ομάδες των φοιτητών για την εξεταστική του Σεπτεμβρίου του μαθήματος οφείλουν να παραδώσουν τα παρακάτω:
Α. 1 αρχείο σε μορφή jpeg (max. 30 MB) με τίτλο: ΚΑΤΟΨΗ 1:500, όπου θα φαίνεται το σύνολο της περιοχής μελέτης
Β. 1 αρχείο σε μορφή jpeg (max. 30 MB) με τίτλο: ΚΑΤΟΨΗ 1:200
Γ. 1 αρχείο jpeg (max. 30 MB) με τίτλο: ΤΟΜΕΣ 1:200, 2 ενδεικτικές τομές σε οποιοδήποτε σημείο επιθυμεί η ομάδα.
Δ. Δύο (2) πινακίδες διαστάσεων Α1 (594Χ841 mm) σε οριζόντιο προσανατολισμό, όπου ελεύθερα η κάθε ομάδα μπορεί να βάλει προοπτικές απεικονίσεις (3d renders), σκίτσα, εξέλιξη ιδέας, κατόψεις ή τμήματα αυτών, προκειμένου να γίνουν κατανοητά καλύτερα τα παραπάνω. Διευκρινίζεται ότι οι κατόψεις στις πινακίδες Α1 θα είναι σε ελεύθερη κλίμακα επιλογής των ομάδων, καθώς παραδίδονται σε ξεχωριστό αρχείο υπό κλίμακα.
Ε. Κείμενο περίπου 200 λέξεων με σύντομη περιγραφή της ιδέας και των βασικών αρχών της σύνθεσης.     
Τα ονόματα της ομάδας θα πρέπει να αναγράφονται στην αρχή του κειμένου περιγραφής, συμπεριλαμβανομένων των ΑΜ του κάθε φοιτητή. Τα ονόματα των φοιτητών δεν προσμετρώνονται στις 200 λέξεις του κειμένου
ΣΤ. (ΠΡΟΑΙΡΕΤΙΚΟ) 1 αρχείο σε μορφή jpeg (max. 30 MB) με τίτλο: ΜΑΚΕΤΑ 1:200
Για όσες ομάδες φοιτητών έχουν ήδη κάνει τελική μακέτα, μπορούν να συμπεριλάβουν ένα αρχείο με φωτογραφίες από αυτή, εφόσον υπάρχει η δυνατότητα να γίνει φωτογράφιση.
Ο τρόπος αποστολής των παραπάνω θα γίνει σε φάκελο σε μορφή zip, ο οποίος θα αναρτηθεί στο πεδίο ΕΡΓΑΣΙΕΣ στην πλατφόρμα eclass.
Δημόσια υποστήριξη του θέματος (προφορική παρουσίαση) δε θα πραγματοποιηθεί.
ΠΡΟΣΟΧΗ !
ΣΤΟ ΚΕΙΜΕΝΟ ΚΑΙ ΣΤΙΣ ΠΙΝΑΚΙΔΕΣ ΘΑ ΑΝΑΓΡΑΦΟΝΤΑΙ ΟΛΑ ΤΑ ΟΝΟΜΑΤΑ ΚΑΙ ΑΜ ΤΩΝ ΦΟΙΤΗΤΩΝ ΤΗΣ ΟΜΑΔΑΣ. 
Οι φοιτητές θα υποβάλουν καθαρά για τεχνικούς λόγους, τον ίδιο ακριβώς ψηφιακό φάκελο ξεχωριστά ο καθένας (δηλαδή αν είναι τρεις φοιτητές σε μια ομάδα θα τον ανεβάσουν και οι τρεις, ο καθένας ξεχωριστά.
Λόγω των δυσκολιών που παρουσιάζει η εξ αποστάσεως συνεργασία και των νέων τρόπων παρουσίασης ανάρτησης στην πλατφόρμα του e-class κλπ, για διευκόλυνσή σας δίνεται η δυνατότητα, η κατάθεση των εργασιών να γίνει από την Πέμπτη 17 Σεπτεμβρίου έως τη Δευτέρα 21 Σεπτεμβρίου.
Η ανάρτηση του αρχείου θα γίνει στο e-class / Εργασίες /  ΕΞΕΤΑΣΤΙΚΗ ΣΕΠΤΕΜΒΡΙΟΥ 2020 ΜΑΘΗΜΑΤΟΣ ΑΡΧΙΤΕΚΤΟΝΙΚΗ ΣΥΝΘΕΣΗ 9Β (Αρχιτεκτονική και Τοπίο), 9ο εξάμηνο
Με την κατάθεση της εργασίας διαβιβάζεται αυτόματα στον διδάσκοντα ειδοποίηση με μήνυμα.

(deadline: 2020-09-21 23:00:00)
BEGIN:VALARM
TRIGGER:-PT24H
DURATION:PT10H
ACTION:DISPLAY
DESCRIPTION:DEADLINE REMINDER for ΕΞΕΤΑΣΤΙΚΗ ΣΕΠΤΕΜΒΡΙΟΥ 2020 ΜΑΘΗΜΑΤΟΣ ΑΡΧΙΤΕΚΤΟΝΙΚΗ ΣΥΝΘΕΣΗ ΙΧΒ (Αρχιτεκτονική και Τοπίο)
END:VALARM
END:VEVENT
BEGIN:VEVENT
DTSTART:20210214T235500
DURATION:PT00H00M00S
SUMMARY:[DEADLINE] ΕΞΕΤΑΣΤΙΚΗ ΦΕΒΡΟΥΑΡΙΟΥ ΧΕΙΜΕΡΙΝΟΥ ΕΞΑΜΗΝΟΥ 2020-2021 ΜΑΘΗΜΑΤΟΣ ΑΡΧΙΤΕΚΤΟΝΙΚΗ ΣΥΝΘΕΣΗ 9Β (Αρχιτεκτονική και Τοπίο)
DESCRIPTION:ΠΑΡΑΔΟΤΕΑ ΜΑΘΗΜΑΤΟΣ ΑΡΧΙΤΕΚΤΟΝΙΚΗ ΣΥΝΘΕΣΗ ΙΧβ
Όλες οι ομάδες των φοιτητών για την εξεταστική του Φεβρουαρίου του μαθήματος οφείλουν να παραδώσουν τα παρακάτω:
Α. 1 αρχείο σε μορφή jpeg (max. 30 MB) με τίτλο: ΚΑΤΟΨΗ 1:500 (κάτοψη δώματος) , όπου θα φαίνεται το σύνολο της περιοχής μελέτης
Β. 1 αρχείο σε μορφή jpeg (max. 30 MB) με τίτλο: ΚΑΤΟΨΗ 1:200 (στην κρίση της ομάδας για επιλογή επιπέδου)
Γ. 1 αρχείο jpeg (max. 30 MB) με τίτλο: ΤΟΜΕΣ 1:200, 2 ενδεικτικές τομές σε οποιοδήποτε σημείο επιθυμεί η ομάδα.
Δ. Δύο (2) πινακίδες διαστάσεων Α0 (841 x 1189 mm) ή τέσσερις πινακίδες διαστάσεων Α1 (594Χ841 mm) σε οριζόντιο προσανατολισμό, όπου ελεύθερα η κάθε ομάδα μπορεί να βάλει προοπτικές απεικονίσεις (3d renders), σκίτσα, εξέλιξη ιδέας, κατόψεις ή τμήματα αυτών, προκειμένου να γίνουν κατανοητά καλύτερα τα παραπάνω. Διευκρινίζεται ότι οι κατόψεις στις πινακίδες Α1 θα είναι σε ελεύθερη κλίμακα επιλογής των ομάδων, καθώς παραδίδονται σε ξεχωριστό αρχείο υπό κλίμακα.
Ε. Κείμενο περίπου 200 λέξεων με σύντομη περιγραφή της ιδέας και των βασικών αρχών της σύνθεσης.     
Τα ονόματα της ομάδας θα πρέπει να αναγράφονται στην αρχή του κειμένου περιγραφής, συμπεριλαμβανομένων των ΑΜ του κάθε φοιτητή. Τα ονόματα των φοιτητών δεν προσμετρώνονται στις 200 λέξεις του κειμένου
 
Ο τρόπος αποστολής των παραπάνω θα γίνει σε φάκελο σε μορφή zip, ο οποίος θα αναρτηθεί στο πεδίο ΕΡΓΑΣΙΕΣ στην πλατφόρμα eclass.
Δημόσια υποστήριξη του θέματος (προφορική παρουσίαση) δε θα πραγματοποιηθεί.
ΠΡΟΣΟΧΗ !
ΣΤΟ ΚΕΙΜΕΝΟ ΚΑΙ ΣΤΙΣ ΠΙΝΑΚΙΔΕΣ ΘΑ ΑΝΑΓΡΑΦΟΝΤΑΙ ΟΛΑ ΤΑ ΟΝΟΜΑΤΑ ΚΑΙ ΑΜ ΤΩΝ ΦΟΙΤΗΤΩΝ ΤΗΣ ΟΜΑΔΑΣ. 
Οι φοιτητές θα υποβάλουν τον ίδιο ακριβώς ψηφιακό φάκελο ξεχωριστά ο καθένας (δηλαδή αν είναι τρεις φοιτητές σε μια ομάδα θα τον ανεβάσουν και οι τρεις, ο καθένας ξεχωριστά).
 Για διευκόλυνσή σας δίνεται η δυνατότητα η κατάθεση των εργασιών να γίνει σε όλη τη διάρκεια της εξεταστικής, δηλαδή από τη Δευτέρα 25 Ιανουαρίου έως και την Κυριακή 14 Φεβρουαρίου.
Η ανάρτηση του αρχείου θα γίνει στο e-class / Εργασίες /  ΕΞΕΤΑΣΤΙΚΗ ΦΕΒΡΟΥΑΡΙΟΥ 2021 ΜΑΘΗΜΑΤΟΣ ΑΡΧΙΤΕΚΤΟΝΙΚΗ ΣΥΝΘΕΣΗ 9Β (Αρχιτεκτονική και Τοπίο), 9ο εξάμηνο
 
Οι διδάσκοντες του μαθήματος
(deadline: 2021-02-14 23:55:00)
BEGIN:VALARM
TRIGGER:-PT24H
DURATION:PT10H
ACTION:DISPLAY
DESCRIPTION:DEADLINE REMINDER for ΕΞΕΤΑΣΤΙΚΗ ΦΕΒΡΟΥΑΡΙΟΥ ΧΕΙΜΕΡΙΝΟΥ ΕΞΑΜΗΝΟΥ 2020-2021 ΜΑΘΗΜΑΤΟΣ ΑΡΧΙΤΕΚΤΟΝΙΚΗ ΣΥΝΘΕΣΗ 9Β (Αρχιτεκτονική και Τοπίο)
END:VALARM
END:VEVENT
BEGIN:VEVENT
DTSTART:20210622T235500
DURATION:PT00H00M00S
SUMMARY:[DEADLINE] ΕΞΕΤΑΣΤΙΚΗ ΙΟΥΝΙΟΥ 2021 ΜΑΘΗΜΑΤΟΣ ΑΡΧΙΤΕΚΤΟΝΙΚΗ ΣΥΝΘΕΣΗ 9Β (Αρχιτεκτονική και Τοπίο)
DESCRIPTION:(deadline: 2021-06-22 23:55:00)
BEGIN:VALARM
TRIGGER:-PT24H
DURATION:PT10H
ACTION:DISPLAY
DESCRIPTION:DEADLINE REMINDER for ΕΞΕΤΑΣΤΙΚΗ ΙΟΥΝΙΟΥ 2021 ΜΑΘΗΜΑΤΟΣ ΑΡΧΙΤΕΚΤΟΝΙΚΗ ΣΥΝΘΕΣΗ 9Β (Αρχιτεκτονική και Τοπίο)
END:VALARM
END:VEVENT
BEGIN:VEVENT
DTSTART:20210921T235500
DURATION:PT00H00M00S
SUMMARY:[DEADLINE] ΕΞΕΤΑΣΤΙΚΗ ΣΕΠΤΕΒΡΙΟΥ 2021 ΜΑΘΗΜΑΤΟΣ ΑΡΧΙΤΕΚΤΟΝΙΚΗ ΣΥΝΘΕΣΗ 9Β (Αρχιτεκτονική και Τοπίο), 9ο εξάμηνο
DESCRIPTION:Όλες οι ομάδες των φοιτητών για την εξεταστική Σεπτεμβρίου 2021 του μαθήματος οφείλουν να παραδώσουν τα παρακάτω:
Α. 1 αρχείο σε μορφή jpeg (max. 30 MB) με τίτλο: ΚΑΤΟΨΗ 1:500 (κάτοψη δώματος) , όπου θα φαίνεται το σύνολο της περιοχής μελέτης
Β. 1 αρχείο σε μορφή jpeg (max. 30 MB) με τίτλο: ΚΑΤΟΨΗ 1:200 (στην κρίση της ομάδας για επιλογή επιπέδου)
Γ. 1 αρχείο jpeg (max. 30 MB) με τίτλο: ΤΟΜΕΣ 1:200, 2 ενδεικτικές τομές σε οποιοδήποτε σημείο επιθυμεί η ομάδα.
Δ. Δύο (2) πινακίδες διαστάσεων Α0 (841 x 1189 mm) ή τέσσερις πινακίδες διαστάσεων Α1 (594Χ841 mm) σε οριζόντιο προσανατολισμό, όπου ελεύθερα η κάθε ομάδα μπορεί να βάλει προοπτικές απεικονίσεις (3d renders), σκίτσα, εξέλιξη ιδέας, κατόψεις ή τμήματα αυτών, προκειμένου να γίνουν κατανοητά καλύτερα τα παραπάνω. Διευκρινίζεται ότι οι κατόψεις στις πινακίδες Α1 θα είναι σε ελεύθερη κλίμακα επιλογής των ομάδων, καθώς παραδίδονται σε ξεχωριστό αρχείο υπό κλίμακα.
Ε. Κείμενο περίπου 200 λέξεων με σύντομη περιγραφή της ιδέας και των βασικών αρχών της σύνθεσης.     
Τα ονόματα της ομάδας θα πρέπει να αναγράφονται στην αρχή του κειμένου περιγραφής, συμπεριλαμβανομένων των ΑΜ του κάθε φοιτητή. Τα ονόματα των φοιτητών δεν προσμετρώνονται στις 200 λέξεις του κειμένου.
 
Ο τρόπος αποστολής των παραπάνω θα γίνει σε φάκελο σε μορφή zip, ο οποίος θα αναρτηθεί στο πεδίο ΕΡΓΑΣΙΕΣ στην πλατφόρμα eclass.
Δημόσια υποστήριξη του θέματος (προφορική παρουσίαση) δε θα πραγματοποιηθεί.
ΠΡΟΣΟΧΗ !
ΣΤΟ ΚΕΙΜΕΝΟ ΚΑΙ ΣΤΙΣ ΠΙΝΑΚΙΔΕΣ ΘΑ ΑΝΑΓΡΑΦΟΝΤΑΙ ΟΛΑ ΤΑ ΟΝΟΜΑΤΑ ΚΑΙ ΑΜ ΤΩΝ ΦΟΙΤΗΤΩΝ ΤΗΣ ΟΜΑΔΑΣ. 
Οι φοιτητές θα υποβάλουν τον ίδιο ακριβώς ψηφιακό φάκελο ξεχωριστά ο καθένας (δηλαδή αν είναι τρεις φοιτητές σε μια ομάδα θα τον ανεβάσουν και οι τρεις, ο καθένας ξεχωριστά).
Προς διευκόλυνση των ομάδων και για να αποφευχθούν προβλήματα που πιθανό να προκύψουν από ελλιπή ταχύτητα του δικτύου υπολογιστών ή άλλες αντιξοότητες τη συγκεκριμένη μέρα ανάρτησης των εργασιών, η πλατφόρμα υποβολής των εργασιών  θα παραμείνει ανοικτή από τη Δευτέρα 13 έως την Τρίτη 21 Σεπτεμβρίου 2021. 
 
Η ανάρτηση του αρχείου θα γίνει στο e-class / Εργασίες /  ΕΞΕΤΑΣΤΙΚΗ ΣΕΠΤΕΒΡΙΟΥ 2021 ΜΑΘΗΜΑΤΟΣ ΑΡΧΙΤΕΚΤΟΝΙΚΗ ΣΥΝΘΕΣΗ 9Β (Αρχιτεκτονική και Τοπίο), 9ο εξάμηνο
 
Οι διδάσκοντες του μαθήματος
(deadline: 2021-09-21 23:55:00)
BEGIN:VALARM
TRIGGER:-PT24H
DURATION:PT10H
ACTION:DISPLAY
DESCRIPTION:DEADLINE REMINDER for ΕΞΕΤΑΣΤΙΚΗ ΣΕΠΤΕΒΡΙΟΥ 2021 ΜΑΘΗΜΑΤΟΣ ΑΡΧΙΤΕΚΤΟΝΙΚΗ ΣΥΝΘΕΣΗ 9Β (Αρχιτεκτονική και Τοπίο), 9ο εξάμηνο
END:VALARM
END:VEVENT
BEGIN:VEVENT
DTSTART:20240223T235500
DURATION:PT00H00M00S
SUMMARY:[DEADLINE] ΕΞΕΤΑΣΤΙΚΗ ΜΑΘΗΜΑΤΟΣ ΑΡΧΙΤΕΚΤΟΝΙΚΗ ΣΥΝΘΕΣΗ ΙΧβ - ΤΜΗΜΑ Α ΚΑΙ Β (Πολυχρονόπουλος - Γούλιαρης - Γρηγοριάδου)
DESCRIPTION:Η συγκεκριμένη εξεταστική ισχύει μόνο για τους επί πτυχίω φοιτητές, δηλ. από το 11ο εξάμηνο και άνω. 
Παραδοτέα: 
 Όλες οι ομάδες των φοιτητών για την εξεταστική Φεβρουαρίου του μαθήματος οφείλουν να παραδώσουν τα παρακάτω: Α. Δύο (2) ΦΗΦΙΑΚΕΣ πινακίδες διαστάσεων Α0 (841 x 1189 mm) ή τέσσερις πινακίδες διαστάσεων Α1 (594Χ841 mm) σε οριζόντιο προσανατολισμό, όπου ελεύθερα η κάθε ομάδα μπορεί να βάλει προοπτικές απεικονίσεις (3d renders), σκίτσα, εξέλιξη ιδέας, κατόψεις ή τμήματα αυτών, προκειμένου να γίνει κατανοητή καλύτερα η πρόταση της κάθε ομάδας. Διευκρινίζεται ότι οι κατόψεις στις πινακίδες Α1 ή Α0 θα είναι σε ελεύθερη κλίμακα επιλογής των ομάδων. Β. Κείμενο περίπου 100 λέξεων με σύντομη περιγραφή της ιδέας και των βασικών αρχών της σύνθεσης, το οποίο μπορεί να είναι είτε συγκεντρωμένο είτε διάσπαρτο στις πινακίδες. Γ. υλικό με τα παρακάτω: - 1 αρχείο σε μορφή jpeg ή pdf (max. 30 MB) με τίτλο: ΚΑΤΟΨΗ 1:500 (κάτοψη δώματος) , όπου θα φαίνεται το σύνολο της περιοχής μελέτης - αρχεία σε μορφή jpeg ή pdf (max. 30 MB) με τίτλο: ΚΑΤΟΨΕΙΣ 1:200 με όλα τα επίπεδα του συγκροτήματος. - αρχεία jpeg ή pdf (max. 30 MB) με τίτλο: ΤΟΜΕΣ 1:200, 2 ενδεικτικές τομές σε οποιοδήποτε σημείο επιθυμεί η ομάδα. - αρχεία jpeg ή pdf (max. 30 MB) με τίτλο: ΟΨΕΙΣ 1:200, 2 ενδεικτικές όψεις που επιθυμεί η ομάδα.
ΠΡΟΣΟΧΗ !
ΣΤΟ ΚΕΙΜΕΝΟ ΚΑΙ ΣΤΙΣ ΠΙΝΑΚΙΔΕΣ ΘΑ ΑΝΑΓΡΑΦΟΝΤΑΙ ΟΛΑ ΤΑ ΟΝΟΜΑΤΑ ΚΑΙ ΑΜ ΤΩΝ ΦΟΙΤΗΤΩΝ ΤΗΣ ΟΜΑΔΑΣ. 
Οι φοιτητές θα υποβάλουν καθαρά για τεχνικούς λόγους, τον ίδιο ακριβώς ψηφιακό φάκελο ξεχωριστά ο καθένας (δηλαδή αν είναι τρεις φοιτητές σε μια ομάδα θα τον ανεβάσουν και οι τρεις, ο καθένας ξεχωριστά.
Προς διευκόλυνση των ομάδων και για να αποφευχθούν προβλήματα που πιθανό να προκύψουν από ελλειπή ταχύτητα του δικτύου υπολογιστών ή άλλες αντιξοότητες τη συγκεκριμένη μέρα ανάρτησης των εργασιών, η πλατφόρμα υποβολής των εργασιών  θα παραμείνει ανοικτή από τη Δευτέρα 12 έως την Παρασκευή 23 Φεβρουαρίου 2024. 
Η ανάρτηση του αρχείου θα γίνει στο e-class / Εργασίες / ΕΞΕΤΑΣΤΙΚΗ ΜΑΘΗΜΑΤΟΣ ΑΡΧΙΤΕΚΤΟΝΙΚΗΣ ΣΥΝΘΕΣΗΣ ΙΧ, 9ο εξάμηνο 2023-2024
 
 
Η διδακτική ομάδα του μαθήματος
 
 


TRANSLATE with x

English






Arabic
Hebrew
Polish


Bulgarian
Hindi
Portuguese


Catalan
Hmong Daw
Romanian


Chinese Simplified
Hungarian
Russian


Chinese Traditional
Indonesian
Slovak


Czech
Italian
Slovenian


Danish
Japanese
Spanish


Dutch
Klingon
Swedish


English
Korean
Thai


Estonian
Latvian
Turkish


Finnish
Lithuanian
Ukrainian


French
Malay
Urdu


German
Maltese
Vietnamese


Greek
Norwegian
Welsh


Haitian Creole
Persian
 








 
 

TRANSLATE with

COPY THE URL BELOW
 
Back


EMBED THE SNIPPET BELOW IN YOUR SITE
 
Enable collaborative features and customize widget: Bing Webmaster Portal
Back


 


TRANSLATE with x

English






Arabic
Hebrew
Polish


Bulgarian
Hindi
Portuguese


Catalan
Hmong Daw
Romanian


Chinese Simplified
Hungarian
Russian


Chinese Traditional
Indonesian
Slovak


Czech
Italian
Slovenian


Danish
Japanese
Spanish


Dutch
Klingon
Swedish


English
Korean
Thai


Estonian
Latvian
Turkish


Finnish
Lithuanian
Ukrainian


French
Malay
Urdu


German
Maltese
Vietnamese


Greek
Norwegian
Welsh


Haitian Creole
Persian
 









 

TRANSLATE with

COPY THE URL BELOW

Back


EMBED THE SNIPPET BELOW IN YOUR SITE

Enable collaborative features and customize widget: Bing Webmaster Portal
Back


(deadline: 2024-02-23 23:55:00)
BEGIN:VALARM
TRIGGER:-PT24H
DURATION:PT10H
ACTION:DISPLAY
DESCRIPTION:DEADLINE REMINDER for ΕΞΕΤΑΣΤΙΚΗ ΜΑΘΗΜΑΤΟΣ ΑΡΧΙΤΕΚΤΟΝΙΚΗ ΣΥΝΘΕΣΗ ΙΧβ - ΤΜΗΜΑ Α ΚΑΙ Β (Πολυχρονόπουλος - Γούλιαρης - Γρηγοριάδου)
END:VALARM
END:VEVENT
END:VCALENDAR
